BEGIN:VCALENDAR
VERSION:2.0
PRODID:-//Arcadia Poker - ECPv6.15.20//NONSGML v1.0//EN
CALSCALE:GREGORIAN
METHOD:PUBLISH
X-WR-CALNAME:Arcadia Poker
X-ORIGINAL-URL:https://arcadiapoker.com
X-WR-CALDESC:Events for Arcadia Poker
REFRESH-INTERVAL;VALUE=DURATION:PT1H
X-Robots-Tag:noindex
X-PUBLISHED-TTL:PT1H
BEGIN:VTIMEZONE
TZID:America/Phoenix
BEGIN:STANDARD
TZOFFSETFROM:-0700
TZOFFSETTO:-0700
TZNAME:MST
DTSTART:20210101T000000
END:STANDARD
END:VTIMEZONE
BEGIN:VEVENT
DTSTART;TZID=America/Phoenix:20220430T193000
DTEND;TZID=America/Phoenix:20220430T233000
DTSTAMP:20260425T074430
CREATED:20220107T171409Z
LAST-MODIFIED:20220315T011716Z
UID:699-1651347000-1651361400@arcadiapoker.com
SUMMARY:RSVP $60 Arcadia Crownty Series
DESCRIPTION:Buy-in: $60\n\nStarting stack: 45k\nEarly Bonus: 5k\n(7:21pm Cutoff. Must be present and paid for by this time. Can not be paid in advance or by others) \n\n 
URL:https://arcadiapoker.com/event/rsvp-60-arcadia-poker-series-8/
LOCATION:Arcadia House\, 9725 N 56th Dr\, Glendale\, AZ\, 85302\, United States
CATEGORIES:$60 League
END:VEVENT
END:VCALENDAR