BEGIN:VCALENDAR
VERSION:2.0
PRODID:-//Arcadia Poker - ECPv6.15.20//NONSGML v1.0//EN
CALSCALE:GREGORIAN
METHOD:PUBLISH
X-ORIGINAL-URL:https://arcadiapoker.com
X-WR-CALDESC:Events for Arcadia Poker
REFRESH-INTERVAL;VALUE=DURATION:PT1H
X-Robots-Tag:noindex
X-PUBLISHED-TTL:PT1H
BEGIN:VTIMEZONE
TZID:America/Phoenix
BEGIN:STANDARD
TZOFFSETFROM:-0700
TZOFFSETTO:-0700
TZNAME:MST
DTSTART:20220101T000000
END:STANDARD
END:VTIMEZONE
BEGIN:VEVENT
DTSTART;TZID=America/Phoenix:20230624T190000
DTEND;TZID=America/Phoenix:20230624T233000
DTSTAMP:20260423T041107
CREATED:20230607T135956Z
LAST-MODIFIED:20230624T135728Z
UID:1298-1687633200-1687649400@arcadiapoker.com
SUMMARY:Run it Twice $80 Tourney
DESCRIPTION:We’re now in Glendale!!!\nPlease read your confirmation e-mail for the new address.\n\n$80 Run it Twice Tourney\n\n$50 prize pool = 45k Starting stack\n$20 D.A. = 25k Bonus Chips\n$10 Cash Bounty\nEarly Bird Bonus: 10k*\n*Entry Must be paid 5mins prior to start time** \nRSVP prior to 11:59pm 6-23 to receive 15k Bonus chips** \n**If you miss either of these bonuses\, you may pay $5 each to receive. \n\nYeah\, trying something new here.\nMost of you are familiar with "running it twice" in cash games. \nNow\, we're going to try it in a tournament.\nIf you are unfamiliar\, please take a few minutes and google it or search on Youtube.\nIn OUR tourney\, there will be certain rules/guidelines:\n\nRunning it Twice will only happen til 2nd break.\nAfter 2nd break\, only single run-outs\, as normal.\nRunning it twice will only happen during heads-up\, with an all-in player.\nSingle run-out with 3 or more players in the hand.\nIf the hand starts with 3+ players\, but others get pushed out and results in heads-up\, then only the remaining community cards will have two run-outs.
URL:https://arcadiapoker.com/event/run-it-twice-80-tourney/
CATEGORIES:Bigger game
ATTACH;FMTTYPE=image/jpeg:https://arcadiapoker.com/wp-content/uploads/2023/06/RIT1.jpg
END:VEVENT
END:VCALENDAR