BEGIN:VCALENDAR
VERSION:2.0
PRODID:-//Arcadia Poker - ECPv6.15.20//NONSGML v1.0//EN
CALSCALE:GREGORIAN
METHOD:PUBLISH
X-ORIGINAL-URL:https://arcadiapoker.com
X-WR-CALDESC:Events for Arcadia Poker
REFRESH-INTERVAL;VALUE=DURATION:PT1H
X-Robots-Tag:noindex
X-PUBLISHED-TTL:PT1H
BEGIN:VTIMEZONE
TZID:America/Phoenix
BEGIN:STANDARD
TZOFFSETFROM:-0700
TZOFFSETTO:-0700
TZNAME:MST
DTSTART:20220101T000000
END:STANDARD
END:VTIMEZONE
BEGIN:VEVENT
DTSTART;TZID=America/Phoenix:20230513T193000
DTEND;TZID=America/Phoenix:20230513T233000
DTSTAMP:20260423T084409
CREATED:20230507T005728Z
LAST-MODIFIED:20230513T164529Z
UID:1287-1684006200-1684020600@arcadiapoker.com
SUMMARY:$80 Crazy Pineapple Tourney
DESCRIPTION:  \n\n$80 Crazy Pineapple\n\n$50 Prize Pool / $10 Bounty / $20 Dealer Appreciation \n\nSame Blind structure as a league game \n\nStarting stack: 45\,000\nDealer Appreciation: 25\,000\nEarly Bonus: 10\,000* \n*Must be paid for within 5 mins of scheduled start time.\nIf you’re late\, then $10 will get you the bonus.\nIt goes up $10 for each blind level missed. \nEarly rsvp bonus: 15k** \n**rsvp by 7pm the day prior to receive.\nIf you missed out\, then pay $10 to get it. \nFor those that don’t know how to play\, its not that far off from TX Hold’em.\nThe key difference is that you are dealt 3 cards.\nAfter the Flop\, you must discard 1 card and then it plays out like TX Hold’em. \nVery important to discard before going to the turn.\nIf you still have 3 cards in your hand\, then your hand may be declared dead.
URL:https://arcadiapoker.com/event/80-crazy-pineapple-tourney/
CATEGORIES:Bigger game
ATTACH;FMTTYPE=image/jpeg:https://arcadiapoker.com/wp-content/uploads/2023/04/CrazyPineapple.jpg
END:VEVENT
END:VCALENDAR