BEGIN:VCALENDAR
VERSION:2.0
PRODID:-//Arcadia Poker - ECPv6.15.20//NONSGML v1.0//EN
CALSCALE:GREGORIAN
METHOD:PUBLISH
X-WR-CALNAME:Arcadia Poker
X-ORIGINAL-URL:https://arcadiapoker.com
X-WR-CALDESC:Events for Arcadia Poker
REFRESH-INTERVAL;VALUE=DURATION:PT1H
X-Robots-Tag:noindex
X-PUBLISHED-TTL:PT1H
BEGIN:VTIMEZONE
TZID:America/Phoenix
BEGIN:STANDARD
TZOFFSETFROM:-0700
TZOFFSETTO:-0700
TZNAME:MST
DTSTART:20220101T000000
END:STANDARD
END:VTIMEZONE
BEGIN:VEVENT
DTSTART;TZID=America/Phoenix:20230107T193000
DTEND;TZID=America/Phoenix:20230107T233000
DTSTAMP:20260424T005053
CREATED:20221229T163722Z
LAST-MODIFIED:20221229T163722Z
UID:1176-1673119800-1673134200@arcadiapoker.com
SUMMARY:RSVP $60 League Game
DESCRIPTION:Located near 40th st & Thomas\n(Exact address will be provided in your RSVP email confirmation) \n\nBuy-in: $60\n\nStarting stack: 45k\nEarly Bonus: 5k\n(7:21pm Cutoff. Must be present and paid for before this time) \n\nIf interested in designated dealing and earning some extra points\,\nplease indicate so in the “notes”. Put “WTD” (Willing To Deal).
URL:https://arcadiapoker.com/event/rsvp-60-league-game/
CATEGORIES:$60 League
END:VEVENT
BEGIN:VEVENT
DTSTART;TZID=America/Phoenix:20230121T193000
DTEND;TZID=America/Phoenix:20230121T233000
DTSTAMP:20260424T005053
CREATED:20221229T164023Z
LAST-MODIFIED:20221229T164305Z
UID:1178-1674329400-1674343800@arcadiapoker.com
SUMMARY:RSVP $60 League Game
DESCRIPTION:Located near 40th st & Thomas\n(Exact address will be provided in your RSVP email confirmation) \n\nBuy-in: $60\n\nStarting stack: 45k\nEarly Bonus: 5k\n(7:21pm Cutoff. Must be present and paid for before this time) \n\nIf interested in designated dealing and earning some extra points\,\nplease indicate so in the “notes”. Put “WTD” (Willing To Deal).
URL:https://arcadiapoker.com/event/rsvp-60-league-game-2/
CATEGORIES:$60 League
END:VEVENT
BEGIN:VEVENT
DTSTART;TZID=America/Phoenix:20230129T150000
DTEND;TZID=America/Phoenix:20230129T200000
DTSTAMP:20260424T005053
CREATED:20230105T035012Z
LAST-MODIFIED:20230106T144624Z
UID:1222-1675004400-1675022400@arcadiapoker.com
SUMMARY:RSVP $120 Game
DESCRIPTION:Deep stack Sunday\n\n$100 Buy-in: 60k starting stack\n$20 Dealer Appreciation* = 25K bonus chips\n*for designated non-player dealers \nEarly Bird bonus: 10k\n(Arrive & Pay for your seat no later than 10 mins. prior to the schedule start time) \n\nPayouts:\n1st = 40%\n2nd = 30%\n3rd = 20%\n4th = 10%
URL:https://arcadiapoker.com/event/rsvp-120-game/
CATEGORIES:Bigger game
END:VEVENT
END:VCALENDAR