BEGIN:VCALENDAR
VERSION:2.0
PRODID:-//Arcadia Poker - ECPv6.15.20//NONSGML v1.0//EN
CALSCALE:GREGORIAN
METHOD:PUBLISH
X-ORIGINAL-URL:https://arcadiapoker.com
X-WR-CALDESC:Events for Arcadia Poker
REFRESH-INTERVAL;VALUE=DURATION:PT1H
X-Robots-Tag:noindex
X-PUBLISHED-TTL:PT1H
BEGIN:VTIMEZONE
TZID:America/Phoenix
BEGIN:STANDARD
TZOFFSETFROM:-0700
TZOFFSETTO:-0700
TZNAME:MST
DTSTART:20200101T000000
END:STANDARD
END:VTIMEZONE
BEGIN:VEVENT
DTSTART;TZID=America/Phoenix:20211211T183000
DTEND;TZID=America/Phoenix:20211211T233000
DTSTAMP:20260425T151804
CREATED:20211205T171144Z
LAST-MODIFIED:20211210T174427Z
UID:633-1639247400-1639265400@arcadiapoker.com
SUMMARY:James's $42.0o HO-MAHA tourney
DESCRIPTION:As some of you know\, James is shaking things up and moving to California.\nSo as per his request\, we present this crazy HO-MAHA tourney.\nHold’em & Omaha(high only)\nalternating each blind level \nBuy-in: $42.0o\n(includes $7 bounty) \nStarting stack: 42\,000\nOn-time Bonus: 8\,000 \nEntries allowed until end of 2nd Break\nNo Re-entry\, Rebuys or Add-ons \n\n17 min. Blinds\nO = Omaha / H = Hold’em\n100 – 100 O\n100 – 200 H\n200 – 300 O\n200 – 400 H\n10 min. Break\n300 – 500 O\n300 – 600 H\n400 – 600 O\n400 – 800 H\n20 min. Break\n500 – 1\,000 O\n500 – 1\,000 H\n1\,000 – 1\,500 O\n1\,000 – 2\,000 H\n10 min. Break\n2\,000 – 3\,000 O\n2\,000 – 4\,000 H\n3\,000 – 5\,000 O\n3\,000 – 6\,000 H\n10 min. Break\n5\,000 – 5\,000 O\n5\,000 – 10\,000 H\n10\,000 – 15\,000 O\n10\,000 – 20\,000 H\n15\,000 – 25\,000 O\n20\,000 – 40\,000 H\n25\,000 – 50\,000 O\n30\,000 – 60\,000 H\n\n[table id=12 /]
URL:https://arcadiapoker.com/event/jamess-42-ho-maha-tourney/
LOCATION:Arcadia House\, 9725 N 56th Dr\, Glendale\, AZ\, 85302\, United States
END:VEVENT
END:VCALENDAR