BEGIN:VCALENDAR
VERSION:2.0
PRODID:-//Arcadia Poker - ECPv6.15.20//NONSGML v1.0//EN
CALSCALE:GREGORIAN
METHOD:PUBLISH
X-ORIGINAL-URL:https://arcadiapoker.com
X-WR-CALDESC:Events for Arcadia Poker
REFRESH-INTERVAL;VALUE=DURATION:PT1H
X-Robots-Tag:noindex
X-PUBLISHED-TTL:PT1H
BEGIN:VTIMEZONE
TZID:America/Phoenix
BEGIN:STANDARD
TZOFFSETFROM:-0700
TZOFFSETTO:-0700
TZNAME:MST
DTSTART:20210101T000000
END:STANDARD
END:VTIMEZONE
BEGIN:VEVENT
DTSTART;TZID=America/Phoenix:20221231T193000
DTEND;TZID=America/Phoenix:20221231T233000
DTSTAMP:20260423T152205
CREATED:20221227T020117Z
LAST-MODIFIED:20221231T210226Z
UID:1165-1672515000-1672529400@arcadiapoker.com
SUMMARY:RSVP $20 NYE Tourney
DESCRIPTION:Final Game of the Year\n\nBuy-in: $20\nChips: 22k\n\n$20 Rebuy: 23k\nOnly 1 rebuy allowed\nby the end of 1st break\n\nBlinds:\n100 – 200\n200 – 400     22m\n300 – 600\n400 – 800\n20m Break\n500 – 1\,000\n1\,000 – 2\,000       22m\n1\,500 – 3\,000\n2\,000 – 4\,000\n10m Break\n3\,000 – 6\,000\n4\,000 – 8\,000      22m\n6\,000 – 12\,000\n8\,000 – 16\,000\n10\,000 – 20\,000
URL:https://arcadiapoker.com/event/rsvp-20-nye-tourney/
END:VEVENT
END:VCALENDAR